BEGIN:VCALENDAR
VERSION:2.0
PRODID:-//Beaver Creek Golf Course - ECPv6.15.20//NONSGML v1.0//EN
CALSCALE:GREGORIAN
METHOD:PUBLISH
X-WR-CALNAME:Beaver Creek Golf Course
X-ORIGINAL-URL:https://beavercreekgolfcourse.com
X-WR-CALDESC:Events for Beaver Creek Golf Course
REFRESH-INTERVAL;VALUE=DURATION:PT1H
X-Robots-Tag:noindex
X-PUBLISHED-TTL:PT1H
BEGIN:VTIMEZONE
TZID:America/Toronto
BEGIN:DAYLIGHT
TZOFFSETFROM:-0500
TZOFFSETTO:-0400
TZNAME:EDT
DTSTART:20240310T070000
END:DAYLIGHT
BEGIN:STANDARD
TZOFFSETFROM:-0400
TZOFFSETTO:-0500
TZNAME:EST
DTSTART:20241103T060000
END:STANDARD
BEGIN:DAYLIGHT
TZOFFSETFROM:-0500
TZOFFSETTO:-0400
TZNAME:EDT
DTSTART:20250309T070000
END:DAYLIGHT
BEGIN:STANDARD
TZOFFSETFROM:-0400
TZOFFSETTO:-0500
TZNAME:EST
DTSTART:20251102T060000
END:STANDARD
BEGIN:DAYLIGHT
TZOFFSETFROM:-0500
TZOFFSETTO:-0400
TZNAME:EDT
DTSTART:20260308T070000
END:DAYLIGHT
BEGIN:STANDARD
TZOFFSETFROM:-0400
TZOFFSETTO:-0500
TZNAME:EST
DTSTART:20261101T060000
END:STANDARD
END:VTIMEZONE
BEGIN:VEVENT
DTSTART;TZID=America/Toronto:20250630T150000
DTEND;TZID=America/Toronto:20250630T173000
DTSTAMP:20260423T002616
CREATED:20240524T153251Z
LAST-MODIFIED:20240524T153251Z
UID:10000265-1751295600-1751304600@beavercreekgolfcourse.com
SUMMARY:Men's League
DESCRIPTION:
URL:https://beavercreekgolfcourse.com/event/mens-league/2025-06-30/
END:VEVENT
BEGIN:VEVENT
DTSTART;TZID=America/Toronto:20250630T090000
DTEND;TZID=America/Toronto:20250630T110000
DTSTAMP:20260423T002616
CREATED:20240524T153005Z
LAST-MODIFIED:20240524T153042Z
UID:10000115-1751274000-1751281200@beavercreekgolfcourse.com
SUMMARY:Geezer League
DESCRIPTION:Shotgun Start
URL:https://beavercreekgolfcourse.com/event/geezer-league/2025-06-30/
END:VEVENT
BEGIN:VEVENT
DTSTART;TZID=America/Toronto:20250626T090000
DTEND;TZID=America/Toronto:20250626T110000
DTSTAMP:20260423T002616
CREATED:20240524T153005Z
LAST-MODIFIED:20240524T153042Z
UID:10000114-1750928400-1750935600@beavercreekgolfcourse.com
SUMMARY:Geezer League
DESCRIPTION:Shotgun Start
URL:https://beavercreekgolfcourse.com/event/geezer-league/2025-06-26/
END:VEVENT
BEGIN:VEVENT
DTSTART;TZID=America/Toronto:20250624T150000
DTEND;TZID=America/Toronto:20250624T173000
DTSTAMP:20260423T002616
CREATED:20240524T153251Z
LAST-MODIFIED:20240524T153251Z
UID:10000264-1750777200-1750786200@beavercreekgolfcourse.com
SUMMARY:Men's League
DESCRIPTION:
URL:https://beavercreekgolfcourse.com/event/mens-league/2025-06-24/
END:VEVENT
BEGIN:VEVENT
DTSTART;TZID=America/Toronto:20250623T150000
DTEND;TZID=America/Toronto:20250623T173000
DTSTAMP:20260423T002616
CREATED:20240524T153251Z
LAST-MODIFIED:20240524T153251Z
UID:10000263-1750690800-1750699800@beavercreekgolfcourse.com
SUMMARY:Men's League
DESCRIPTION:
URL:https://beavercreekgolfcourse.com/event/mens-league/2025-06-23/
END:VEVENT
BEGIN:VEVENT
DTSTART;TZID=America/Toronto:20250623T090000
DTEND;TZID=America/Toronto:20250623T110000
DTSTAMP:20260423T002616
CREATED:20240524T153005Z
LAST-MODIFIED:20240524T153042Z
UID:10000113-1750669200-1750676400@beavercreekgolfcourse.com
SUMMARY:Geezer League
DESCRIPTION:Shotgun Start
URL:https://beavercreekgolfcourse.com/event/geezer-league/2025-06-23/
END:VEVENT
BEGIN:VEVENT
DTSTART;TZID=America/Toronto:20250619T090000
DTEND;TZID=America/Toronto:20250619T110000
DTSTAMP:20260423T002616
CREATED:20240524T153005Z
LAST-MODIFIED:20240524T153042Z
UID:10000112-1750323600-1750330800@beavercreekgolfcourse.com
SUMMARY:Geezer League
DESCRIPTION:Shotgun Start
URL:https://beavercreekgolfcourse.com/event/geezer-league/2025-06-19/
END:VEVENT
BEGIN:VEVENT
DTSTART;TZID=America/Toronto:20250617T150000
DTEND;TZID=America/Toronto:20250617T173000
DTSTAMP:20260423T002616
CREATED:20240524T153251Z
LAST-MODIFIED:20240524T153251Z
UID:10000262-1750172400-1750181400@beavercreekgolfcourse.com
SUMMARY:Men's League
DESCRIPTION:
URL:https://beavercreekgolfcourse.com/event/mens-league/2025-06-17/
END:VEVENT
BEGIN:VEVENT
DTSTART;TZID=America/Toronto:20250616T150000
DTEND;TZID=America/Toronto:20250616T173000
DTSTAMP:20260423T002616
CREATED:20240524T153251Z
LAST-MODIFIED:20240524T153251Z
UID:10000261-1750086000-1750095000@beavercreekgolfcourse.com
SUMMARY:Men's League
DESCRIPTION:
URL:https://beavercreekgolfcourse.com/event/mens-league/2025-06-16/
END:VEVENT
BEGIN:VEVENT
DTSTART;TZID=America/Toronto:20250616T090000
DTEND;TZID=America/Toronto:20250616T110000
DTSTAMP:20260423T002616
CREATED:20240524T153005Z
LAST-MODIFIED:20240524T153042Z
UID:10000111-1750064400-1750071600@beavercreekgolfcourse.com
SUMMARY:Geezer League
DESCRIPTION:Shotgun Start
URL:https://beavercreekgolfcourse.com/event/geezer-league/2025-06-16/
END:VEVENT
BEGIN:VEVENT
DTSTART;TZID=America/Toronto:20250612T090000
DTEND;TZID=America/Toronto:20250612T110000
DTSTAMP:20260423T002616
CREATED:20240524T153005Z
LAST-MODIFIED:20240524T153042Z
UID:10000110-1749718800-1749726000@beavercreekgolfcourse.com
SUMMARY:Geezer League
DESCRIPTION:Shotgun Start
URL:https://beavercreekgolfcourse.com/event/geezer-league/2025-06-12/
END:VEVENT
BEGIN:VEVENT
DTSTART;TZID=America/Toronto:20250610T150000
DTEND;TZID=America/Toronto:20250610T173000
DTSTAMP:20260423T002616
CREATED:20240524T153251Z
LAST-MODIFIED:20240524T153251Z
UID:10000260-1749567600-1749576600@beavercreekgolfcourse.com
SUMMARY:Men's League
DESCRIPTION:
URL:https://beavercreekgolfcourse.com/event/mens-league/2025-06-10/
END:VEVENT
BEGIN:VEVENT
DTSTART;TZID=America/Toronto:20250609T150000
DTEND;TZID=America/Toronto:20250609T173000
DTSTAMP:20260423T002616
CREATED:20240524T153251Z
LAST-MODIFIED:20240524T153251Z
UID:10000259-1749481200-1749490200@beavercreekgolfcourse.com
SUMMARY:Men's League
DESCRIPTION:
URL:https://beavercreekgolfcourse.com/event/mens-league/2025-06-09/
END:VEVENT
BEGIN:VEVENT
DTSTART;TZID=America/Toronto:20250609T090000
DTEND;TZID=America/Toronto:20250609T110000
DTSTAMP:20260423T002616
CREATED:20240524T153005Z
LAST-MODIFIED:20240524T153042Z
UID:10000109-1749459600-1749466800@beavercreekgolfcourse.com
SUMMARY:Geezer League
DESCRIPTION:Shotgun Start
URL:https://beavercreekgolfcourse.com/event/geezer-league/2025-06-09/
END:VEVENT
BEGIN:VEVENT
DTSTART;TZID=America/Toronto:20250605T090000
DTEND;TZID=America/Toronto:20250605T110000
DTSTAMP:20260423T002616
CREATED:20240524T153005Z
LAST-MODIFIED:20240524T153042Z
UID:10000108-1749114000-1749121200@beavercreekgolfcourse.com
SUMMARY:Geezer League
DESCRIPTION:Shotgun Start
URL:https://beavercreekgolfcourse.com/event/geezer-league/2025-06-05/
END:VEVENT
BEGIN:VEVENT
DTSTART;TZID=America/Toronto:20250603T150000
DTEND;TZID=America/Toronto:20250603T173000
DTSTAMP:20260423T002616
CREATED:20240524T153251Z
LAST-MODIFIED:20240524T153251Z
UID:10000258-1748962800-1748971800@beavercreekgolfcourse.com
SUMMARY:Men's League
DESCRIPTION:
URL:https://beavercreekgolfcourse.com/event/mens-league/2025-06-03/
END:VEVENT
BEGIN:VEVENT
DTSTART;TZID=America/Toronto:20250602T150000
DTEND;TZID=America/Toronto:20250602T173000
DTSTAMP:20260423T002616
CREATED:20240524T153251Z
LAST-MODIFIED:20240524T153251Z
UID:10000257-1748876400-1748885400@beavercreekgolfcourse.com
SUMMARY:Men's League
DESCRIPTION:
URL:https://beavercreekgolfcourse.com/event/mens-league/2025-06-02/
END:VEVENT
BEGIN:VEVENT
DTSTART;TZID=America/Toronto:20250602T090000
DTEND;TZID=America/Toronto:20250602T110000
DTSTAMP:20260423T002616
CREATED:20240524T153005Z
LAST-MODIFIED:20240524T153042Z
UID:10000107-1748854800-1748862000@beavercreekgolfcourse.com
SUMMARY:Geezer League
DESCRIPTION:Shotgun Start
URL:https://beavercreekgolfcourse.com/event/geezer-league/2025-06-02/
END:VEVENT
BEGIN:VEVENT
DTSTART;TZID=America/Toronto:20250529T090000
DTEND;TZID=America/Toronto:20250529T110000
DTSTAMP:20260423T002616
CREATED:20240524T153005Z
LAST-MODIFIED:20240524T153042Z
UID:10000106-1748509200-1748516400@beavercreekgolfcourse.com
SUMMARY:Geezer League
DESCRIPTION:Shotgun Start
URL:https://beavercreekgolfcourse.com/event/geezer-league/2025-05-29/
END:VEVENT
BEGIN:VEVENT
DTSTART;TZID=America/Toronto:20250527T150000
DTEND;TZID=America/Toronto:20250527T173000
DTSTAMP:20260423T002616
CREATED:20240524T153251Z
LAST-MODIFIED:20240524T153251Z
UID:10000256-1748358000-1748367000@beavercreekgolfcourse.com
SUMMARY:Men's League
DESCRIPTION:
URL:https://beavercreekgolfcourse.com/event/mens-league/2025-05-27/
END:VEVENT
BEGIN:VEVENT
DTSTART;TZID=America/Toronto:20250526T150000
DTEND;TZID=America/Toronto:20250526T173000
DTSTAMP:20260423T002616
CREATED:20240524T153251Z
LAST-MODIFIED:20240524T153251Z
UID:10000255-1748271600-1748280600@beavercreekgolfcourse.com
SUMMARY:Men's League
DESCRIPTION:
URL:https://beavercreekgolfcourse.com/event/mens-league/2025-05-26/
END:VEVENT
BEGIN:VEVENT
DTSTART;TZID=America/Toronto:20250526T090000
DTEND;TZID=America/Toronto:20250526T110000
DTSTAMP:20260423T002616
CREATED:20240524T153005Z
LAST-MODIFIED:20240524T153042Z
UID:10000105-1748250000-1748257200@beavercreekgolfcourse.com
SUMMARY:Geezer League
DESCRIPTION:Shotgun Start
URL:https://beavercreekgolfcourse.com/event/geezer-league/2025-05-26/
END:VEVENT
BEGIN:VEVENT
DTSTART;TZID=America/Toronto:20250522T090000
DTEND;TZID=America/Toronto:20250522T110000
DTSTAMP:20260423T002616
CREATED:20240524T153005Z
LAST-MODIFIED:20240524T153042Z
UID:10000104-1747904400-1747911600@beavercreekgolfcourse.com
SUMMARY:Geezer League
DESCRIPTION:Shotgun Start
URL:https://beavercreekgolfcourse.com/event/geezer-league/2025-05-22/
END:VEVENT
BEGIN:VEVENT
DTSTART;TZID=America/Toronto:20250520T150000
DTEND;TZID=America/Toronto:20250520T173000
DTSTAMP:20260423T002616
CREATED:20240524T153251Z
LAST-MODIFIED:20240524T153251Z
UID:10000254-1747753200-1747762200@beavercreekgolfcourse.com
SUMMARY:Men's League
DESCRIPTION:
URL:https://beavercreekgolfcourse.com/event/mens-league/2025-05-20/
END:VEVENT
BEGIN:VEVENT
DTSTART;TZID=America/Toronto:20250519T150000
DTEND;TZID=America/Toronto:20250519T173000
DTSTAMP:20260423T002616
CREATED:20240524T153251Z
LAST-MODIFIED:20240524T153251Z
UID:10000253-1747666800-1747675800@beavercreekgolfcourse.com
SUMMARY:Men's League
DESCRIPTION:
URL:https://beavercreekgolfcourse.com/event/mens-league/2025-05-19/
END:VEVENT
BEGIN:VEVENT
DTSTART;TZID=America/Toronto:20250519T090000
DTEND;TZID=America/Toronto:20250519T110000
DTSTAMP:20260423T002616
CREATED:20240524T153005Z
LAST-MODIFIED:20240524T153042Z
UID:10000103-1747645200-1747652400@beavercreekgolfcourse.com
SUMMARY:Geezer League
DESCRIPTION:Shotgun Start
URL:https://beavercreekgolfcourse.com/event/geezer-league/2025-05-19/
END:VEVENT
BEGIN:VEVENT
DTSTART;TZID=America/Toronto:20250515T090000
DTEND;TZID=America/Toronto:20250515T110000
DTSTAMP:20260423T002616
CREATED:20240524T153005Z
LAST-MODIFIED:20240524T153042Z
UID:10000102-1747299600-1747306800@beavercreekgolfcourse.com
SUMMARY:Geezer League
DESCRIPTION:Shotgun Start
URL:https://beavercreekgolfcourse.com/event/geezer-league/2025-05-15/
END:VEVENT
BEGIN:VEVENT
DTSTART;TZID=America/Toronto:20250513T150000
DTEND;TZID=America/Toronto:20250513T173000
DTSTAMP:20260423T002616
CREATED:20240524T153251Z
LAST-MODIFIED:20240524T153251Z
UID:10000252-1747148400-1747157400@beavercreekgolfcourse.com
SUMMARY:Men's League
DESCRIPTION:
URL:https://beavercreekgolfcourse.com/event/mens-league/2025-05-13/
END:VEVENT
BEGIN:VEVENT
DTSTART;TZID=America/Toronto:20250512T150000
DTEND;TZID=America/Toronto:20250512T173000
DTSTAMP:20260423T002616
CREATED:20240524T153251Z
LAST-MODIFIED:20240524T153251Z
UID:10000251-1747062000-1747071000@beavercreekgolfcourse.com
SUMMARY:Men's League
DESCRIPTION:
URL:https://beavercreekgolfcourse.com/event/mens-league/2025-05-12/
END:VEVENT
BEGIN:VEVENT
DTSTART;TZID=America/Toronto:20250512T090000
DTEND;TZID=America/Toronto:20250512T110000
DTSTAMP:20260423T002616
CREATED:20240524T153005Z
LAST-MODIFIED:20240524T153042Z
UID:10000101-1747040400-1747047600@beavercreekgolfcourse.com
SUMMARY:Geezer League
DESCRIPTION:Shotgun Start
URL:https://beavercreekgolfcourse.com/event/geezer-league/2025-05-12/
END:VEVENT
END:VCALENDAR