BEGIN:VCALENDAR
VERSION:2.0
PRODID:-//Beaver Creek Golf Course - ECPv6.15.20//NONSGML v1.0//EN
CALSCALE:GREGORIAN
METHOD:PUBLISH
X-WR-CALNAME:Beaver Creek Golf Course
X-ORIGINAL-URL:https://beavercreekgolfcourse.com
X-WR-CALDESC:Events for Beaver Creek Golf Course
REFRESH-INTERVAL;VALUE=DURATION:PT1H
X-Robots-Tag:noindex
X-PUBLISHED-TTL:PT1H
BEGIN:VTIMEZONE
TZID:America/Toronto
BEGIN:DAYLIGHT
TZOFFSETFROM:-0500
TZOFFSETTO:-0400
TZNAME:EDT
DTSTART:20240310T070000
END:DAYLIGHT
BEGIN:STANDARD
TZOFFSETFROM:-0400
TZOFFSETTO:-0500
TZNAME:EST
DTSTART:20241103T060000
END:STANDARD
BEGIN:DAYLIGHT
TZOFFSETFROM:-0500
TZOFFSETTO:-0400
TZNAME:EDT
DTSTART:20250309T070000
END:DAYLIGHT
BEGIN:STANDARD
TZOFFSETFROM:-0400
TZOFFSETTO:-0500
TZNAME:EST
DTSTART:20251102T060000
END:STANDARD
BEGIN:DAYLIGHT
TZOFFSETFROM:-0500
TZOFFSETTO:-0400
TZNAME:EDT
DTSTART:20260308T070000
END:DAYLIGHT
BEGIN:STANDARD
TZOFFSETFROM:-0400
TZOFFSETTO:-0500
TZNAME:EST
DTSTART:20261101T060000
END:STANDARD
END:VTIMEZONE
BEGIN:VEVENT
DTSTART;TZID=America/Toronto:20250908T150000
DTEND;TZID=America/Toronto:20250908T173000
DTSTAMP:20260422T153552
CREATED:20240524T153251Z
LAST-MODIFIED:20240524T153251Z
UID:10000285-1757343600-1757352600@beavercreekgolfcourse.com
SUMMARY:Men's League
DESCRIPTION:
URL:https://beavercreekgolfcourse.com/event/mens-league/2025-09-08/
END:VEVENT
BEGIN:VEVENT
DTSTART;TZID=America/Toronto:20250908T090000
DTEND;TZID=America/Toronto:20250908T110000
DTSTAMP:20260422T153552
CREATED:20240524T153005Z
LAST-MODIFIED:20240524T153042Z
UID:10000135-1757322000-1757329200@beavercreekgolfcourse.com
SUMMARY:Geezer League
DESCRIPTION:Shotgun Start
URL:https://beavercreekgolfcourse.com/event/geezer-league/2025-09-08/
END:VEVENT
BEGIN:VEVENT
DTSTART;TZID=America/Toronto:20250904T090000
DTEND;TZID=America/Toronto:20250904T110000
DTSTAMP:20260422T153552
CREATED:20240524T153005Z
LAST-MODIFIED:20240524T153042Z
UID:10000134-1756976400-1756983600@beavercreekgolfcourse.com
SUMMARY:Geezer League
DESCRIPTION:Shotgun Start
URL:https://beavercreekgolfcourse.com/event/geezer-league/2025-09-04/
END:VEVENT
BEGIN:VEVENT
DTSTART;TZID=America/Toronto:20250902T150000
DTEND;TZID=America/Toronto:20250902T173000
DTSTAMP:20260422T153552
CREATED:20240524T153251Z
LAST-MODIFIED:20240524T153251Z
UID:10000284-1756825200-1756834200@beavercreekgolfcourse.com
SUMMARY:Men's League
DESCRIPTION:
URL:https://beavercreekgolfcourse.com/event/mens-league/2025-09-02/
END:VEVENT
BEGIN:VEVENT
DTSTART;TZID=America/Toronto:20250901T150000
DTEND;TZID=America/Toronto:20250901T173000
DTSTAMP:20260422T153552
CREATED:20240524T153251Z
LAST-MODIFIED:20240524T153251Z
UID:10000283-1756738800-1756747800@beavercreekgolfcourse.com
SUMMARY:Men's League
DESCRIPTION:
URL:https://beavercreekgolfcourse.com/event/mens-league/2025-09-01/
END:VEVENT
BEGIN:VEVENT
DTSTART;TZID=America/Toronto:20250901T090000
DTEND;TZID=America/Toronto:20250901T110000
DTSTAMP:20260422T153552
CREATED:20240524T153005Z
LAST-MODIFIED:20240524T153042Z
UID:10000133-1756717200-1756724400@beavercreekgolfcourse.com
SUMMARY:Geezer League
DESCRIPTION:Shotgun Start
URL:https://beavercreekgolfcourse.com/event/geezer-league/2025-09-01/
END:VEVENT
BEGIN:VEVENT
DTSTART;TZID=America/Toronto:20250828T090000
DTEND;TZID=America/Toronto:20250828T110000
DTSTAMP:20260422T153552
CREATED:20240524T153005Z
LAST-MODIFIED:20240524T153042Z
UID:10000132-1756371600-1756378800@beavercreekgolfcourse.com
SUMMARY:Geezer League
DESCRIPTION:Shotgun Start
URL:https://beavercreekgolfcourse.com/event/geezer-league/2025-08-28/
END:VEVENT
BEGIN:VEVENT
DTSTART;TZID=America/Toronto:20250826T150000
DTEND;TZID=America/Toronto:20250826T173000
DTSTAMP:20260422T153552
CREATED:20240524T153251Z
LAST-MODIFIED:20240524T153251Z
UID:10000282-1756220400-1756229400@beavercreekgolfcourse.com
SUMMARY:Men's League
DESCRIPTION:
URL:https://beavercreekgolfcourse.com/event/mens-league/2025-08-26/
END:VEVENT
BEGIN:VEVENT
DTSTART;TZID=America/Toronto:20250825T150000
DTEND;TZID=America/Toronto:20250825T173000
DTSTAMP:20260422T153552
CREATED:20240524T153251Z
LAST-MODIFIED:20240524T153251Z
UID:10000281-1756134000-1756143000@beavercreekgolfcourse.com
SUMMARY:Men's League
DESCRIPTION:
URL:https://beavercreekgolfcourse.com/event/mens-league/2025-08-25/
END:VEVENT
BEGIN:VEVENT
DTSTART;TZID=America/Toronto:20250825T090000
DTEND;TZID=America/Toronto:20250825T110000
DTSTAMP:20260422T153552
CREATED:20240524T153005Z
LAST-MODIFIED:20240524T153042Z
UID:10000131-1756112400-1756119600@beavercreekgolfcourse.com
SUMMARY:Geezer League
DESCRIPTION:Shotgun Start
URL:https://beavercreekgolfcourse.com/event/geezer-league/2025-08-25/
END:VEVENT
BEGIN:VEVENT
DTSTART;TZID=America/Toronto:20250821T090000
DTEND;TZID=America/Toronto:20250821T110000
DTSTAMP:20260422T153552
CREATED:20240524T153005Z
LAST-MODIFIED:20240524T153042Z
UID:10000130-1755766800-1755774000@beavercreekgolfcourse.com
SUMMARY:Geezer League
DESCRIPTION:Shotgun Start
URL:https://beavercreekgolfcourse.com/event/geezer-league/2025-08-21/
END:VEVENT
BEGIN:VEVENT
DTSTART;TZID=America/Toronto:20250819T150000
DTEND;TZID=America/Toronto:20250819T173000
DTSTAMP:20260422T153552
CREATED:20240524T153251Z
LAST-MODIFIED:20240524T153251Z
UID:10000280-1755615600-1755624600@beavercreekgolfcourse.com
SUMMARY:Men's League
DESCRIPTION:
URL:https://beavercreekgolfcourse.com/event/mens-league/2025-08-19/
END:VEVENT
BEGIN:VEVENT
DTSTART;TZID=America/Toronto:20250818T150000
DTEND;TZID=America/Toronto:20250818T173000
DTSTAMP:20260422T153552
CREATED:20240524T153251Z
LAST-MODIFIED:20240524T153251Z
UID:10000279-1755529200-1755538200@beavercreekgolfcourse.com
SUMMARY:Men's League
DESCRIPTION:
URL:https://beavercreekgolfcourse.com/event/mens-league/2025-08-18/
END:VEVENT
BEGIN:VEVENT
DTSTART;TZID=America/Toronto:20250818T090000
DTEND;TZID=America/Toronto:20250818T110000
DTSTAMP:20260422T153552
CREATED:20240524T153005Z
LAST-MODIFIED:20240524T153042Z
UID:10000129-1755507600-1755514800@beavercreekgolfcourse.com
SUMMARY:Geezer League
DESCRIPTION:Shotgun Start
URL:https://beavercreekgolfcourse.com/event/geezer-league/2025-08-18/
END:VEVENT
BEGIN:VEVENT
DTSTART;TZID=America/Toronto:20250814T090000
DTEND;TZID=America/Toronto:20250814T110000
DTSTAMP:20260422T153552
CREATED:20240524T153005Z
LAST-MODIFIED:20240524T153042Z
UID:10000128-1755162000-1755169200@beavercreekgolfcourse.com
SUMMARY:Geezer League
DESCRIPTION:Shotgun Start
URL:https://beavercreekgolfcourse.com/event/geezer-league/2025-08-14/
END:VEVENT
BEGIN:VEVENT
DTSTART;TZID=America/Toronto:20250812T150000
DTEND;TZID=America/Toronto:20250812T173000
DTSTAMP:20260422T153552
CREATED:20240524T153251Z
LAST-MODIFIED:20240524T153251Z
UID:10000278-1755010800-1755019800@beavercreekgolfcourse.com
SUMMARY:Men's League
DESCRIPTION:
URL:https://beavercreekgolfcourse.com/event/mens-league/2025-08-12/
END:VEVENT
BEGIN:VEVENT
DTSTART;TZID=America/Toronto:20250811T150000
DTEND;TZID=America/Toronto:20250811T173000
DTSTAMP:20260422T153552
CREATED:20240524T153251Z
LAST-MODIFIED:20240524T153251Z
UID:10000277-1754924400-1754933400@beavercreekgolfcourse.com
SUMMARY:Men's League
DESCRIPTION:
URL:https://beavercreekgolfcourse.com/event/mens-league/2025-08-11/
END:VEVENT
BEGIN:VEVENT
DTSTART;TZID=America/Toronto:20250811T090000
DTEND;TZID=America/Toronto:20250811T110000
DTSTAMP:20260422T153552
CREATED:20240524T153005Z
LAST-MODIFIED:20240524T153042Z
UID:10000127-1754902800-1754910000@beavercreekgolfcourse.com
SUMMARY:Geezer League
DESCRIPTION:Shotgun Start
URL:https://beavercreekgolfcourse.com/event/geezer-league/2025-08-11/
END:VEVENT
BEGIN:VEVENT
DTSTART;TZID=America/Toronto:20250807T090000
DTEND;TZID=America/Toronto:20250807T110000
DTSTAMP:20260422T153552
CREATED:20240524T153005Z
LAST-MODIFIED:20240524T153042Z
UID:10000126-1754557200-1754564400@beavercreekgolfcourse.com
SUMMARY:Geezer League
DESCRIPTION:Shotgun Start
URL:https://beavercreekgolfcourse.com/event/geezer-league/2025-08-07/
END:VEVENT
BEGIN:VEVENT
DTSTART;TZID=America/Toronto:20250805T150000
DTEND;TZID=America/Toronto:20250805T173000
DTSTAMP:20260422T153552
CREATED:20240524T153251Z
LAST-MODIFIED:20240524T153251Z
UID:10000276-1754406000-1754415000@beavercreekgolfcourse.com
SUMMARY:Men's League
DESCRIPTION:
URL:https://beavercreekgolfcourse.com/event/mens-league/2025-08-05/
END:VEVENT
BEGIN:VEVENT
DTSTART;TZID=America/Toronto:20250804T150000
DTEND;TZID=America/Toronto:20250804T173000
DTSTAMP:20260422T153552
CREATED:20240524T153251Z
LAST-MODIFIED:20240524T153251Z
UID:10000275-1754319600-1754328600@beavercreekgolfcourse.com
SUMMARY:Men's League
DESCRIPTION:
URL:https://beavercreekgolfcourse.com/event/mens-league/2025-08-04/
END:VEVENT
BEGIN:VEVENT
DTSTART;TZID=America/Toronto:20250804T090000
DTEND;TZID=America/Toronto:20250804T110000
DTSTAMP:20260422T153552
CREATED:20240524T153005Z
LAST-MODIFIED:20240524T153042Z
UID:10000125-1754298000-1754305200@beavercreekgolfcourse.com
SUMMARY:Geezer League
DESCRIPTION:Shotgun Start
URL:https://beavercreekgolfcourse.com/event/geezer-league/2025-08-04/
END:VEVENT
BEGIN:VEVENT
DTSTART;TZID=America/Toronto:20250731T090000
DTEND;TZID=America/Toronto:20250731T110000
DTSTAMP:20260422T153552
CREATED:20240524T153005Z
LAST-MODIFIED:20240524T153042Z
UID:10000124-1753952400-1753959600@beavercreekgolfcourse.com
SUMMARY:Geezer League
DESCRIPTION:Shotgun Start
URL:https://beavercreekgolfcourse.com/event/geezer-league/2025-07-31/
END:VEVENT
BEGIN:VEVENT
DTSTART;TZID=America/Toronto:20250729T150000
DTEND;TZID=America/Toronto:20250729T173000
DTSTAMP:20260422T153552
CREATED:20240524T153251Z
LAST-MODIFIED:20240524T153251Z
UID:10000274-1753801200-1753810200@beavercreekgolfcourse.com
SUMMARY:Men's League
DESCRIPTION:
URL:https://beavercreekgolfcourse.com/event/mens-league/2025-07-29/
END:VEVENT
BEGIN:VEVENT
DTSTART;TZID=America/Toronto:20250728T150000
DTEND;TZID=America/Toronto:20250728T173000
DTSTAMP:20260422T153552
CREATED:20240524T153251Z
LAST-MODIFIED:20240524T153251Z
UID:10000273-1753714800-1753723800@beavercreekgolfcourse.com
SUMMARY:Men's League
DESCRIPTION:
URL:https://beavercreekgolfcourse.com/event/mens-league/2025-07-28/
END:VEVENT
BEGIN:VEVENT
DTSTART;TZID=America/Toronto:20250728T090000
DTEND;TZID=America/Toronto:20250728T110000
DTSTAMP:20260422T153552
CREATED:20240524T153005Z
LAST-MODIFIED:20240524T153042Z
UID:10000123-1753693200-1753700400@beavercreekgolfcourse.com
SUMMARY:Geezer League
DESCRIPTION:Shotgun Start
URL:https://beavercreekgolfcourse.com/event/geezer-league/2025-07-28/
END:VEVENT
BEGIN:VEVENT
DTSTART;TZID=America/Toronto:20250724T090000
DTEND;TZID=America/Toronto:20250724T110000
DTSTAMP:20260422T153552
CREATED:20240524T153005Z
LAST-MODIFIED:20240524T153042Z
UID:10000122-1753347600-1753354800@beavercreekgolfcourse.com
SUMMARY:Geezer League
DESCRIPTION:Shotgun Start
URL:https://beavercreekgolfcourse.com/event/geezer-league/2025-07-24/
END:VEVENT
BEGIN:VEVENT
DTSTART;TZID=America/Toronto:20250722T150000
DTEND;TZID=America/Toronto:20250722T173000
DTSTAMP:20260422T153552
CREATED:20240524T153251Z
LAST-MODIFIED:20240524T153251Z
UID:10000272-1753196400-1753205400@beavercreekgolfcourse.com
SUMMARY:Men's League
DESCRIPTION:
URL:https://beavercreekgolfcourse.com/event/mens-league/2025-07-22/
END:VEVENT
BEGIN:VEVENT
DTSTART;TZID=America/Toronto:20250721T150000
DTEND;TZID=America/Toronto:20250721T173000
DTSTAMP:20260422T153552
CREATED:20240524T153251Z
LAST-MODIFIED:20240524T153251Z
UID:10000271-1753110000-1753119000@beavercreekgolfcourse.com
SUMMARY:Men's League
DESCRIPTION:
URL:https://beavercreekgolfcourse.com/event/mens-league/2025-07-21/
END:VEVENT
BEGIN:VEVENT
DTSTART;TZID=America/Toronto:20250721T090000
DTEND;TZID=America/Toronto:20250721T110000
DTSTAMP:20260422T153552
CREATED:20240524T153005Z
LAST-MODIFIED:20240524T153042Z
UID:10000121-1753088400-1753095600@beavercreekgolfcourse.com
SUMMARY:Geezer League
DESCRIPTION:Shotgun Start
URL:https://beavercreekgolfcourse.com/event/geezer-league/2025-07-21/
END:VEVENT
END:VCALENDAR