BEGIN:VCALENDAR
VERSION:2.0
PRODID:-//Beaver Creek Golf Course - ECPv6.15.20//NONSGML v1.0//EN
CALSCALE:GREGORIAN
METHOD:PUBLISH
X-ORIGINAL-URL:https://beavercreekgolfcourse.com
X-WR-CALDESC:Events for Beaver Creek Golf Course
REFRESH-INTERVAL;VALUE=DURATION:PT1H
X-Robots-Tag:noindex
X-PUBLISHED-TTL:PT1H
BEGIN:VTIMEZONE
TZID:America/Toronto
BEGIN:DAYLIGHT
TZOFFSETFROM:-0500
TZOFFSETTO:-0400
TZNAME:EDT
DTSTART:20240310T070000
END:DAYLIGHT
BEGIN:STANDARD
TZOFFSETFROM:-0400
TZOFFSETTO:-0500
TZNAME:EST
DTSTART:20241103T060000
END:STANDARD
BEGIN:DAYLIGHT
TZOFFSETFROM:-0500
TZOFFSETTO:-0400
TZNAME:EDT
DTSTART:20250309T070000
END:DAYLIGHT
BEGIN:STANDARD
TZOFFSETFROM:-0400
TZOFFSETTO:-0500
TZNAME:EST
DTSTART:20251102T060000
END:STANDARD
BEGIN:DAYLIGHT
TZOFFSETFROM:-0500
TZOFFSETTO:-0400
TZNAME:EDT
DTSTART:20260308T070000
END:DAYLIGHT
BEGIN:STANDARD
TZOFFSETFROM:-0400
TZOFFSETTO:-0500
TZNAME:EST
DTSTART:20261101T060000
END:STANDARD
END:VTIMEZONE
BEGIN:VEVENT
DTSTART;TZID=America/Toronto:20250227T090000
DTEND;TZID=America/Toronto:20250227T110000
DTSTAMP:20260423T130803
CREATED:20240524T153005Z
LAST-MODIFIED:20240524T153042Z
UID:10000080-1740646800-1740654000@beavercreekgolfcourse.com
SUMMARY:Geezer League
DESCRIPTION:Shotgun Start
URL:https://beavercreekgolfcourse.com/event/geezer-league/2025-02-27/
END:VEVENT
BEGIN:VEVENT
DTSTART;TZID=America/Toronto:20250225T150000
DTEND;TZID=America/Toronto:20250225T173000
DTSTAMP:20260423T130803
CREATED:20240524T153251Z
LAST-MODIFIED:20240524T153251Z
UID:10000230-1740495600-1740504600@beavercreekgolfcourse.com
SUMMARY:Men's League
DESCRIPTION:
URL:https://beavercreekgolfcourse.com/event/mens-league/2025-02-25/
END:VEVENT
BEGIN:VEVENT
DTSTART;TZID=America/Toronto:20250224T150000
DTEND;TZID=America/Toronto:20250224T173000
DTSTAMP:20260423T130803
CREATED:20240524T153251Z
LAST-MODIFIED:20240524T153251Z
UID:10000229-1740409200-1740418200@beavercreekgolfcourse.com
SUMMARY:Men's League
DESCRIPTION:
URL:https://beavercreekgolfcourse.com/event/mens-league/2025-02-24/
END:VEVENT
BEGIN:VEVENT
DTSTART;TZID=America/Toronto:20250224T090000
DTEND;TZID=America/Toronto:20250224T110000
DTSTAMP:20260423T130803
CREATED:20240524T153005Z
LAST-MODIFIED:20240524T153042Z
UID:10000079-1740387600-1740394800@beavercreekgolfcourse.com
SUMMARY:Geezer League
DESCRIPTION:Shotgun Start
URL:https://beavercreekgolfcourse.com/event/geezer-league/2025-02-24/
END:VEVENT
BEGIN:VEVENT
DTSTART;TZID=America/Toronto:20250220T090000
DTEND;TZID=America/Toronto:20250220T110000
DTSTAMP:20260423T130803
CREATED:20240524T153005Z
LAST-MODIFIED:20240524T153042Z
UID:10000078-1740042000-1740049200@beavercreekgolfcourse.com
SUMMARY:Geezer League
DESCRIPTION:Shotgun Start
URL:https://beavercreekgolfcourse.com/event/geezer-league/2025-02-20/
END:VEVENT
BEGIN:VEVENT
DTSTART;TZID=America/Toronto:20250218T150000
DTEND;TZID=America/Toronto:20250218T173000
DTSTAMP:20260423T130803
CREATED:20240524T153251Z
LAST-MODIFIED:20240524T153251Z
UID:10000228-1739890800-1739899800@beavercreekgolfcourse.com
SUMMARY:Men's League
DESCRIPTION:
URL:https://beavercreekgolfcourse.com/event/mens-league/2025-02-18/
END:VEVENT
BEGIN:VEVENT
DTSTART;TZID=America/Toronto:20250217T150000
DTEND;TZID=America/Toronto:20250217T173000
DTSTAMP:20260423T130803
CREATED:20240524T153251Z
LAST-MODIFIED:20240524T153251Z
UID:10000227-1739804400-1739813400@beavercreekgolfcourse.com
SUMMARY:Men's League
DESCRIPTION:
URL:https://beavercreekgolfcourse.com/event/mens-league/2025-02-17/
END:VEVENT
BEGIN:VEVENT
DTSTART;TZID=America/Toronto:20250217T090000
DTEND;TZID=America/Toronto:20250217T110000
DTSTAMP:20260423T130803
CREATED:20240524T153005Z
LAST-MODIFIED:20240524T153042Z
UID:10000077-1739782800-1739790000@beavercreekgolfcourse.com
SUMMARY:Geezer League
DESCRIPTION:Shotgun Start
URL:https://beavercreekgolfcourse.com/event/geezer-league/2025-02-17/
END:VEVENT
BEGIN:VEVENT
DTSTART;TZID=America/Toronto:20250213T090000
DTEND;TZID=America/Toronto:20250213T110000
DTSTAMP:20260423T130803
CREATED:20240524T153005Z
LAST-MODIFIED:20240524T153042Z
UID:10000076-1739437200-1739444400@beavercreekgolfcourse.com
SUMMARY:Geezer League
DESCRIPTION:Shotgun Start
URL:https://beavercreekgolfcourse.com/event/geezer-league/2025-02-13/
END:VEVENT
BEGIN:VEVENT
DTSTART;TZID=America/Toronto:20250211T150000
DTEND;TZID=America/Toronto:20250211T173000
DTSTAMP:20260423T130803
CREATED:20240524T153251Z
LAST-MODIFIED:20240524T153251Z
UID:10000226-1739286000-1739295000@beavercreekgolfcourse.com
SUMMARY:Men's League
DESCRIPTION:
URL:https://beavercreekgolfcourse.com/event/mens-league/2025-02-11/
END:VEVENT
BEGIN:VEVENT
DTSTART;TZID=America/Toronto:20250210T150000
DTEND;TZID=America/Toronto:20250210T173000
DTSTAMP:20260423T130803
CREATED:20240524T153251Z
LAST-MODIFIED:20240524T153251Z
UID:10000225-1739199600-1739208600@beavercreekgolfcourse.com
SUMMARY:Men's League
DESCRIPTION:
URL:https://beavercreekgolfcourse.com/event/mens-league/2025-02-10/
END:VEVENT
BEGIN:VEVENT
DTSTART;TZID=America/Toronto:20250210T090000
DTEND;TZID=America/Toronto:20250210T110000
DTSTAMP:20260423T130803
CREATED:20240524T153005Z
LAST-MODIFIED:20240524T153042Z
UID:10000075-1739178000-1739185200@beavercreekgolfcourse.com
SUMMARY:Geezer League
DESCRIPTION:Shotgun Start
URL:https://beavercreekgolfcourse.com/event/geezer-league/2025-02-10/
END:VEVENT
BEGIN:VEVENT
DTSTART;TZID=America/Toronto:20250206T090000
DTEND;TZID=America/Toronto:20250206T110000
DTSTAMP:20260423T130803
CREATED:20240524T153005Z
LAST-MODIFIED:20240524T153042Z
UID:10000074-1738832400-1738839600@beavercreekgolfcourse.com
SUMMARY:Geezer League
DESCRIPTION:Shotgun Start
URL:https://beavercreekgolfcourse.com/event/geezer-league/2025-02-06/
END:VEVENT
BEGIN:VEVENT
DTSTART;TZID=America/Toronto:20250204T150000
DTEND;TZID=America/Toronto:20250204T173000
DTSTAMP:20260423T130803
CREATED:20240524T153251Z
LAST-MODIFIED:20240524T153251Z
UID:10000224-1738681200-1738690200@beavercreekgolfcourse.com
SUMMARY:Men's League
DESCRIPTION:
URL:https://beavercreekgolfcourse.com/event/mens-league/2025-02-04/
END:VEVENT
BEGIN:VEVENT
DTSTART;TZID=America/Toronto:20250203T150000
DTEND;TZID=America/Toronto:20250203T173000
DTSTAMP:20260423T130803
CREATED:20240524T153251Z
LAST-MODIFIED:20240524T153251Z
UID:10000223-1738594800-1738603800@beavercreekgolfcourse.com
SUMMARY:Men's League
DESCRIPTION:
URL:https://beavercreekgolfcourse.com/event/mens-league/2025-02-03/
END:VEVENT
BEGIN:VEVENT
DTSTART;TZID=America/Toronto:20250203T090000
DTEND;TZID=America/Toronto:20250203T110000
DTSTAMP:20260423T130803
CREATED:20240524T153005Z
LAST-MODIFIED:20240524T153042Z
UID:10000073-1738573200-1738580400@beavercreekgolfcourse.com
SUMMARY:Geezer League
DESCRIPTION:Shotgun Start
URL:https://beavercreekgolfcourse.com/event/geezer-league/2025-02-03/
END:VEVENT
BEGIN:VEVENT
DTSTART;TZID=America/Toronto:20250130T090000
DTEND;TZID=America/Toronto:20250130T110000
DTSTAMP:20260423T130803
CREATED:20240524T153005Z
LAST-MODIFIED:20240524T153042Z
UID:10000072-1738227600-1738234800@beavercreekgolfcourse.com
SUMMARY:Geezer League
DESCRIPTION:Shotgun Start
URL:https://beavercreekgolfcourse.com/event/geezer-league/2025-01-30/
END:VEVENT
BEGIN:VEVENT
DTSTART;TZID=America/Toronto:20250128T150000
DTEND;TZID=America/Toronto:20250128T173000
DTSTAMP:20260423T130803
CREATED:20240524T153251Z
LAST-MODIFIED:20240524T153251Z
UID:10000222-1738076400-1738085400@beavercreekgolfcourse.com
SUMMARY:Men's League
DESCRIPTION:
URL:https://beavercreekgolfcourse.com/event/mens-league/2025-01-28/
END:VEVENT
BEGIN:VEVENT
DTSTART;TZID=America/Toronto:20250127T150000
DTEND;TZID=America/Toronto:20250127T173000
DTSTAMP:20260423T130803
CREATED:20240524T153251Z
LAST-MODIFIED:20240524T153251Z
UID:10000221-1737990000-1737999000@beavercreekgolfcourse.com
SUMMARY:Men's League
DESCRIPTION:
URL:https://beavercreekgolfcourse.com/event/mens-league/2025-01-27/
END:VEVENT
BEGIN:VEVENT
DTSTART;TZID=America/Toronto:20250127T090000
DTEND;TZID=America/Toronto:20250127T110000
DTSTAMP:20260423T130803
CREATED:20240524T153005Z
LAST-MODIFIED:20240524T153042Z
UID:10000071-1737968400-1737975600@beavercreekgolfcourse.com
SUMMARY:Geezer League
DESCRIPTION:Shotgun Start
URL:https://beavercreekgolfcourse.com/event/geezer-league/2025-01-27/
END:VEVENT
BEGIN:VEVENT
DTSTART;TZID=America/Toronto:20250123T090000
DTEND;TZID=America/Toronto:20250123T110000
DTSTAMP:20260423T130803
CREATED:20240524T153005Z
LAST-MODIFIED:20240524T153042Z
UID:10000070-1737622800-1737630000@beavercreekgolfcourse.com
SUMMARY:Geezer League
DESCRIPTION:Shotgun Start
URL:https://beavercreekgolfcourse.com/event/geezer-league/2025-01-23/
END:VEVENT
BEGIN:VEVENT
DTSTART;TZID=America/Toronto:20250121T150000
DTEND;TZID=America/Toronto:20250121T173000
DTSTAMP:20260423T130803
CREATED:20240524T153251Z
LAST-MODIFIED:20240524T153251Z
UID:10000220-1737471600-1737480600@beavercreekgolfcourse.com
SUMMARY:Men's League
DESCRIPTION:
URL:https://beavercreekgolfcourse.com/event/mens-league/2025-01-21/
END:VEVENT
BEGIN:VEVENT
DTSTART;TZID=America/Toronto:20250120T150000
DTEND;TZID=America/Toronto:20250120T173000
DTSTAMP:20260423T130803
CREATED:20240524T153251Z
LAST-MODIFIED:20240524T153251Z
UID:10000219-1737385200-1737394200@beavercreekgolfcourse.com
SUMMARY:Men's League
DESCRIPTION:
URL:https://beavercreekgolfcourse.com/event/mens-league/2025-01-20/
END:VEVENT
BEGIN:VEVENT
DTSTART;TZID=America/Toronto:20250120T090000
DTEND;TZID=America/Toronto:20250120T110000
DTSTAMP:20260423T130803
CREATED:20240524T153005Z
LAST-MODIFIED:20240524T153042Z
UID:10000069-1737363600-1737370800@beavercreekgolfcourse.com
SUMMARY:Geezer League
DESCRIPTION:Shotgun Start
URL:https://beavercreekgolfcourse.com/event/geezer-league/2025-01-20/
END:VEVENT
BEGIN:VEVENT
DTSTART;TZID=America/Toronto:20250116T090000
DTEND;TZID=America/Toronto:20250116T110000
DTSTAMP:20260423T130803
CREATED:20240524T153005Z
LAST-MODIFIED:20240524T153042Z
UID:10000068-1737018000-1737025200@beavercreekgolfcourse.com
SUMMARY:Geezer League
DESCRIPTION:Shotgun Start
URL:https://beavercreekgolfcourse.com/event/geezer-league/2025-01-16/
END:VEVENT
BEGIN:VEVENT
DTSTART;TZID=America/Toronto:20250114T150000
DTEND;TZID=America/Toronto:20250114T173000
DTSTAMP:20260423T130803
CREATED:20240524T153251Z
LAST-MODIFIED:20240524T153251Z
UID:10000218-1736866800-1736875800@beavercreekgolfcourse.com
SUMMARY:Men's League
DESCRIPTION:
URL:https://beavercreekgolfcourse.com/event/mens-league/2025-01-14/
END:VEVENT
BEGIN:VEVENT
DTSTART;TZID=America/Toronto:20250113T150000
DTEND;TZID=America/Toronto:20250113T173000
DTSTAMP:20260423T130803
CREATED:20240524T153251Z
LAST-MODIFIED:20240524T153251Z
UID:10000217-1736780400-1736789400@beavercreekgolfcourse.com
SUMMARY:Men's League
DESCRIPTION:
URL:https://beavercreekgolfcourse.com/event/mens-league/2025-01-13/
END:VEVENT
BEGIN:VEVENT
DTSTART;TZID=America/Toronto:20250113T090000
DTEND;TZID=America/Toronto:20250113T110000
DTSTAMP:20260423T130803
CREATED:20240524T153005Z
LAST-MODIFIED:20240524T153042Z
UID:10000067-1736758800-1736766000@beavercreekgolfcourse.com
SUMMARY:Geezer League
DESCRIPTION:Shotgun Start
URL:https://beavercreekgolfcourse.com/event/geezer-league/2025-01-13/
END:VEVENT
BEGIN:VEVENT
DTSTART;TZID=America/Toronto:20250109T090000
DTEND;TZID=America/Toronto:20250109T110000
DTSTAMP:20260423T130803
CREATED:20240524T153005Z
LAST-MODIFIED:20240524T153042Z
UID:10000066-1736413200-1736420400@beavercreekgolfcourse.com
SUMMARY:Geezer League
DESCRIPTION:Shotgun Start
URL:https://beavercreekgolfcourse.com/event/geezer-league/2025-01-09/
END:VEVENT
BEGIN:VEVENT
DTSTART;TZID=America/Toronto:20250107T150000
DTEND;TZID=America/Toronto:20250107T173000
DTSTAMP:20260423T130803
CREATED:20240524T153251Z
LAST-MODIFIED:20240524T153251Z
UID:10000216-1736262000-1736271000@beavercreekgolfcourse.com
SUMMARY:Men's League
DESCRIPTION:
URL:https://beavercreekgolfcourse.com/event/mens-league/2025-01-07/
END:VEVENT
END:VCALENDAR