BEGIN:VCALENDAR
VERSION:2.0
PRODID:-//Beaver Creek Golf Course - ECPv6.15.20//NONSGML v1.0//EN
CALSCALE:GREGORIAN
METHOD:PUBLISH
X-WR-CALNAME:Beaver Creek Golf Course
X-ORIGINAL-URL:https://beavercreekgolfcourse.com
X-WR-CALDESC:Events for Beaver Creek Golf Course
REFRESH-INTERVAL;VALUE=DURATION:PT1H
X-Robots-Tag:noindex
X-PUBLISHED-TTL:PT1H
BEGIN:VTIMEZONE
TZID:America/Toronto
BEGIN:DAYLIGHT
TZOFFSETFROM:-0500
TZOFFSETTO:-0400
TZNAME:EDT
DTSTART:20240310T070000
END:DAYLIGHT
BEGIN:STANDARD
TZOFFSETFROM:-0400
TZOFFSETTO:-0500
TZNAME:EST
DTSTART:20241103T060000
END:STANDARD
BEGIN:DAYLIGHT
TZOFFSETFROM:-0500
TZOFFSETTO:-0400
TZNAME:EDT
DTSTART:20250309T070000
END:DAYLIGHT
BEGIN:STANDARD
TZOFFSETFROM:-0400
TZOFFSETTO:-0500
TZNAME:EST
DTSTART:20251102T060000
END:STANDARD
BEGIN:DAYLIGHT
TZOFFSETFROM:-0500
TZOFFSETTO:-0400
TZNAME:EDT
DTSTART:20260308T070000
END:DAYLIGHT
BEGIN:STANDARD
TZOFFSETFROM:-0400
TZOFFSETTO:-0500
TZNAME:EST
DTSTART:20261101T060000
END:STANDARD
END:VTIMEZONE
BEGIN:VEVENT
DTSTART;TZID=America/Toronto:20251030T090000
DTEND;TZID=America/Toronto:20251030T110000
DTSTAMP:20260421T233910
CREATED:20240524T153005Z
LAST-MODIFIED:20240524T153042Z
UID:10000150-1761814800-1761822000@beavercreekgolfcourse.com
SUMMARY:Geezer League
DESCRIPTION:Shotgun Start
URL:https://beavercreekgolfcourse.com/event/geezer-league/2025-10-30/
END:VEVENT
BEGIN:VEVENT
DTSTART;TZID=America/Toronto:20251028T150000
DTEND;TZID=America/Toronto:20251028T173000
DTSTAMP:20260421T233910
CREATED:20240524T153251Z
LAST-MODIFIED:20240524T153251Z
UID:10000300-1761663600-1761672600@beavercreekgolfcourse.com
SUMMARY:Men's League
DESCRIPTION:
URL:https://beavercreekgolfcourse.com/event/mens-league/2025-10-28/
END:VEVENT
BEGIN:VEVENT
DTSTART;TZID=America/Toronto:20251027T150000
DTEND;TZID=America/Toronto:20251027T173000
DTSTAMP:20260421T233910
CREATED:20240524T153251Z
LAST-MODIFIED:20240524T153251Z
UID:10000299-1761577200-1761586200@beavercreekgolfcourse.com
SUMMARY:Men's League
DESCRIPTION:
URL:https://beavercreekgolfcourse.com/event/mens-league/2025-10-27/
END:VEVENT
BEGIN:VEVENT
DTSTART;TZID=America/Toronto:20251027T090000
DTEND;TZID=America/Toronto:20251027T110000
DTSTAMP:20260421T233910
CREATED:20240524T153005Z
LAST-MODIFIED:20240524T153042Z
UID:10000149-1761555600-1761562800@beavercreekgolfcourse.com
SUMMARY:Geezer League
DESCRIPTION:Shotgun Start
URL:https://beavercreekgolfcourse.com/event/geezer-league/2025-10-27/
END:VEVENT
BEGIN:VEVENT
DTSTART;TZID=America/Toronto:20251023T090000
DTEND;TZID=America/Toronto:20251023T110000
DTSTAMP:20260421T233910
CREATED:20240524T153005Z
LAST-MODIFIED:20240524T153042Z
UID:10000148-1761210000-1761217200@beavercreekgolfcourse.com
SUMMARY:Geezer League
DESCRIPTION:Shotgun Start
URL:https://beavercreekgolfcourse.com/event/geezer-league/2025-10-23/
END:VEVENT
BEGIN:VEVENT
DTSTART;TZID=America/Toronto:20251021T150000
DTEND;TZID=America/Toronto:20251021T173000
DTSTAMP:20260421T233910
CREATED:20240524T153251Z
LAST-MODIFIED:20240524T153251Z
UID:10000298-1761058800-1761067800@beavercreekgolfcourse.com
SUMMARY:Men's League
DESCRIPTION:
URL:https://beavercreekgolfcourse.com/event/mens-league/2025-10-21/
END:VEVENT
BEGIN:VEVENT
DTSTART;TZID=America/Toronto:20251020T150000
DTEND;TZID=America/Toronto:20251020T173000
DTSTAMP:20260421T233910
CREATED:20240524T153251Z
LAST-MODIFIED:20240524T153251Z
UID:10000297-1760972400-1760981400@beavercreekgolfcourse.com
SUMMARY:Men's League
DESCRIPTION:
URL:https://beavercreekgolfcourse.com/event/mens-league/2025-10-20/
END:VEVENT
BEGIN:VEVENT
DTSTART;TZID=America/Toronto:20251020T090000
DTEND;TZID=America/Toronto:20251020T110000
DTSTAMP:20260421T233910
CREATED:20240524T153005Z
LAST-MODIFIED:20240524T153042Z
UID:10000147-1760950800-1760958000@beavercreekgolfcourse.com
SUMMARY:Geezer League
DESCRIPTION:Shotgun Start
URL:https://beavercreekgolfcourse.com/event/geezer-league/2025-10-20/
END:VEVENT
BEGIN:VEVENT
DTSTART;TZID=America/Toronto:20251016T090000
DTEND;TZID=America/Toronto:20251016T110000
DTSTAMP:20260421T233910
CREATED:20240524T153005Z
LAST-MODIFIED:20240524T153042Z
UID:10000146-1760605200-1760612400@beavercreekgolfcourse.com
SUMMARY:Geezer League
DESCRIPTION:Shotgun Start
URL:https://beavercreekgolfcourse.com/event/geezer-league/2025-10-16/
END:VEVENT
BEGIN:VEVENT
DTSTART;TZID=America/Toronto:20251014T150000
DTEND;TZID=America/Toronto:20251014T173000
DTSTAMP:20260421T233910
CREATED:20240524T153251Z
LAST-MODIFIED:20240524T153251Z
UID:10000296-1760454000-1760463000@beavercreekgolfcourse.com
SUMMARY:Men's League
DESCRIPTION:
URL:https://beavercreekgolfcourse.com/event/mens-league/2025-10-14/
END:VEVENT
BEGIN:VEVENT
DTSTART;TZID=America/Toronto:20251013T150000
DTEND;TZID=America/Toronto:20251013T173000
DTSTAMP:20260421T233910
CREATED:20240524T153251Z
LAST-MODIFIED:20240524T153251Z
UID:10000295-1760367600-1760376600@beavercreekgolfcourse.com
SUMMARY:Men's League
DESCRIPTION:
URL:https://beavercreekgolfcourse.com/event/mens-league/2025-10-13/
END:VEVENT
BEGIN:VEVENT
DTSTART;TZID=America/Toronto:20251013T090000
DTEND;TZID=America/Toronto:20251013T110000
DTSTAMP:20260421T233910
CREATED:20240524T153005Z
LAST-MODIFIED:20240524T153042Z
UID:10000145-1760346000-1760353200@beavercreekgolfcourse.com
SUMMARY:Geezer League
DESCRIPTION:Shotgun Start
URL:https://beavercreekgolfcourse.com/event/geezer-league/2025-10-13/
END:VEVENT
BEGIN:VEVENT
DTSTART;TZID=America/Toronto:20251009T090000
DTEND;TZID=America/Toronto:20251009T110000
DTSTAMP:20260421T233910
CREATED:20240524T153005Z
LAST-MODIFIED:20240524T153042Z
UID:10000144-1760000400-1760007600@beavercreekgolfcourse.com
SUMMARY:Geezer League
DESCRIPTION:Shotgun Start
URL:https://beavercreekgolfcourse.com/event/geezer-league/2025-10-09/
END:VEVENT
BEGIN:VEVENT
DTSTART;TZID=America/Toronto:20251007T150000
DTEND;TZID=America/Toronto:20251007T173000
DTSTAMP:20260421T233910
CREATED:20240524T153251Z
LAST-MODIFIED:20240524T153251Z
UID:10000294-1759849200-1759858200@beavercreekgolfcourse.com
SUMMARY:Men's League
DESCRIPTION:
URL:https://beavercreekgolfcourse.com/event/mens-league/2025-10-07/
END:VEVENT
BEGIN:VEVENT
DTSTART;TZID=America/Toronto:20251006T150000
DTEND;TZID=America/Toronto:20251006T173000
DTSTAMP:20260421T233910
CREATED:20240524T153251Z
LAST-MODIFIED:20240524T153251Z
UID:10000293-1759762800-1759771800@beavercreekgolfcourse.com
SUMMARY:Men's League
DESCRIPTION:
URL:https://beavercreekgolfcourse.com/event/mens-league/2025-10-06/
END:VEVENT
BEGIN:VEVENT
DTSTART;TZID=America/Toronto:20251006T090000
DTEND;TZID=America/Toronto:20251006T110000
DTSTAMP:20260421T233910
CREATED:20240524T153005Z
LAST-MODIFIED:20240524T153042Z
UID:10000143-1759741200-1759748400@beavercreekgolfcourse.com
SUMMARY:Geezer League
DESCRIPTION:Shotgun Start
URL:https://beavercreekgolfcourse.com/event/geezer-league/2025-10-06/
END:VEVENT
BEGIN:VEVENT
DTSTART;TZID=America/Toronto:20251002T090000
DTEND;TZID=America/Toronto:20251002T110000
DTSTAMP:20260421T233910
CREATED:20240524T153005Z
LAST-MODIFIED:20240524T153042Z
UID:10000142-1759395600-1759402800@beavercreekgolfcourse.com
SUMMARY:Geezer League
DESCRIPTION:Shotgun Start
URL:https://beavercreekgolfcourse.com/event/geezer-league/2025-10-02/
END:VEVENT
BEGIN:VEVENT
DTSTART;TZID=America/Toronto:20250930T150000
DTEND;TZID=America/Toronto:20250930T173000
DTSTAMP:20260421T233910
CREATED:20240524T153251Z
LAST-MODIFIED:20240524T153251Z
UID:10000292-1759244400-1759253400@beavercreekgolfcourse.com
SUMMARY:Men's League
DESCRIPTION:
URL:https://beavercreekgolfcourse.com/event/mens-league/2025-09-30/
END:VEVENT
BEGIN:VEVENT
DTSTART;TZID=America/Toronto:20250929T150000
DTEND;TZID=America/Toronto:20250929T173000
DTSTAMP:20260421T233910
CREATED:20240524T153251Z
LAST-MODIFIED:20240524T153251Z
UID:10000291-1759158000-1759167000@beavercreekgolfcourse.com
SUMMARY:Men's League
DESCRIPTION:
URL:https://beavercreekgolfcourse.com/event/mens-league/2025-09-29/
END:VEVENT
BEGIN:VEVENT
DTSTART;TZID=America/Toronto:20250929T090000
DTEND;TZID=America/Toronto:20250929T110000
DTSTAMP:20260421T233910
CREATED:20240524T153005Z
LAST-MODIFIED:20240524T153042Z
UID:10000141-1759136400-1759143600@beavercreekgolfcourse.com
SUMMARY:Geezer League
DESCRIPTION:Shotgun Start
URL:https://beavercreekgolfcourse.com/event/geezer-league/2025-09-29/
END:VEVENT
BEGIN:VEVENT
DTSTART;TZID=America/Toronto:20250925T090000
DTEND;TZID=America/Toronto:20250925T110000
DTSTAMP:20260421T233910
CREATED:20240524T153005Z
LAST-MODIFIED:20240524T153042Z
UID:10000140-1758790800-1758798000@beavercreekgolfcourse.com
SUMMARY:Geezer League
DESCRIPTION:Shotgun Start
URL:https://beavercreekgolfcourse.com/event/geezer-league/2025-09-25/
END:VEVENT
BEGIN:VEVENT
DTSTART;TZID=America/Toronto:20250923T150000
DTEND;TZID=America/Toronto:20250923T173000
DTSTAMP:20260421T233910
CREATED:20240524T153251Z
LAST-MODIFIED:20240524T153251Z
UID:10000290-1758639600-1758648600@beavercreekgolfcourse.com
SUMMARY:Men's League
DESCRIPTION:
URL:https://beavercreekgolfcourse.com/event/mens-league/2025-09-23/
END:VEVENT
BEGIN:VEVENT
DTSTART;TZID=America/Toronto:20250922T150000
DTEND;TZID=America/Toronto:20250922T173000
DTSTAMP:20260421T233910
CREATED:20240524T153251Z
LAST-MODIFIED:20240524T153251Z
UID:10000289-1758553200-1758562200@beavercreekgolfcourse.com
SUMMARY:Men's League
DESCRIPTION:
URL:https://beavercreekgolfcourse.com/event/mens-league/2025-09-22/
END:VEVENT
BEGIN:VEVENT
DTSTART;TZID=America/Toronto:20250922T090000
DTEND;TZID=America/Toronto:20250922T110000
DTSTAMP:20260421T233910
CREATED:20240524T153005Z
LAST-MODIFIED:20240524T153042Z
UID:10000139-1758531600-1758538800@beavercreekgolfcourse.com
SUMMARY:Geezer League
DESCRIPTION:Shotgun Start
URL:https://beavercreekgolfcourse.com/event/geezer-league/2025-09-22/
END:VEVENT
BEGIN:VEVENT
DTSTART;TZID=America/Toronto:20250918T090000
DTEND;TZID=America/Toronto:20250918T110000
DTSTAMP:20260421T233910
CREATED:20240524T153005Z
LAST-MODIFIED:20240524T153042Z
UID:10000138-1758186000-1758193200@beavercreekgolfcourse.com
SUMMARY:Geezer League
DESCRIPTION:Shotgun Start
URL:https://beavercreekgolfcourse.com/event/geezer-league/2025-09-18/
END:VEVENT
BEGIN:VEVENT
DTSTART;TZID=America/Toronto:20250916T150000
DTEND;TZID=America/Toronto:20250916T173000
DTSTAMP:20260421T233910
CREATED:20240524T153251Z
LAST-MODIFIED:20240524T153251Z
UID:10000288-1758034800-1758043800@beavercreekgolfcourse.com
SUMMARY:Men's League
DESCRIPTION:
URL:https://beavercreekgolfcourse.com/event/mens-league/2025-09-16/
END:VEVENT
BEGIN:VEVENT
DTSTART;TZID=America/Toronto:20250915T150000
DTEND;TZID=America/Toronto:20250915T173000
DTSTAMP:20260421T233910
CREATED:20240524T153251Z
LAST-MODIFIED:20240524T153251Z
UID:10000287-1757948400-1757957400@beavercreekgolfcourse.com
SUMMARY:Men's League
DESCRIPTION:
URL:https://beavercreekgolfcourse.com/event/mens-league/2025-09-15/
END:VEVENT
BEGIN:VEVENT
DTSTART;TZID=America/Toronto:20250915T090000
DTEND;TZID=America/Toronto:20250915T110000
DTSTAMP:20260421T233910
CREATED:20240524T153005Z
LAST-MODIFIED:20240524T153042Z
UID:10000137-1757926800-1757934000@beavercreekgolfcourse.com
SUMMARY:Geezer League
DESCRIPTION:Shotgun Start
URL:https://beavercreekgolfcourse.com/event/geezer-league/2025-09-15/
END:VEVENT
BEGIN:VEVENT
DTSTART;TZID=America/Toronto:20250911T090000
DTEND;TZID=America/Toronto:20250911T110000
DTSTAMP:20260421T233910
CREATED:20240524T153005Z
LAST-MODIFIED:20240524T153042Z
UID:10000136-1757581200-1757588400@beavercreekgolfcourse.com
SUMMARY:Geezer League
DESCRIPTION:Shotgun Start
URL:https://beavercreekgolfcourse.com/event/geezer-league/2025-09-11/
END:VEVENT
BEGIN:VEVENT
DTSTART;TZID=America/Toronto:20250909T150000
DTEND;TZID=America/Toronto:20250909T173000
DTSTAMP:20260421T233910
CREATED:20240524T153251Z
LAST-MODIFIED:20240524T153251Z
UID:10000286-1757430000-1757439000@beavercreekgolfcourse.com
SUMMARY:Men's League
DESCRIPTION:
URL:https://beavercreekgolfcourse.com/event/mens-league/2025-09-09/
END:VEVENT
END:VCALENDAR